Package: topdownrdata Version: 1.28.0 Command: /home/biocbuild/bbs-3.20-bioc/R/bin/R CMD INSTALL topdownrdata StartedAt: 2025-02-20 11:01:55 -0500 (Thu, 20 Feb 2025) EndedAt: 2025-02-20 11:02:32 -0500 (Thu, 20 Feb 2025) EllapsedTime: 36.3 seconds RetCode: 0 Status: OK