Package: tweeDEseqCountData Version: 1.44.0 Command: /home/biocbuild/bbs-3.20-bioc/R/bin/R CMD check --install=check:tweeDEseqCountData.install-out.txt --library=/home/biocbuild/bbs-3.20-bioc/R/site-library --timings tweeDEseqCountData_1.44.0.tar.gz StartedAt: 2025-02-04 12:49:26 -0500 (Tue, 04 Feb 2025) EndedAt: 2025-02-04 12:49:56 -0500 (Tue, 04 Feb 2025) EllapsedTime: 30.0 seconds RetCode: 0 Status: WARNINGS CheckDir: tweeDEseqCountData.Rcheck Warnings: 1