Package: tweeDEseqCountData Version: 1.44.0 Command: /home/biocbuild/bbs-3.20-bioc/R/bin/R CMD INSTALL tweeDEseqCountData StartedAt: 2025-02-04 10:56:15 -0500 (Tue, 04 Feb 2025) EndedAt: 2025-02-04 10:56:18 -0500 (Tue, 04 Feb 2025) EllapsedTime: 2.3 seconds RetCode: 0 Status: OK