Package: tximportData Version: 1.34.0 Command: /home/biocbuild/bbs-3.20-bioc/R/bin/R CMD build --keep-empty-dirs --no-resave-data tximportData StartedAt: 2025-02-04 11:40:59 -0500 (Tue, 04 Feb 2025) EndedAt: 2025-02-04 11:43:17 -0500 (Tue, 04 Feb 2025) EllapsedTime: 138.2 seconds RetCode: 0 Status: OK PackageFile: tximportData_1.34.0.tar.gz PackageFileSize: 302.1 MiB