Package: vulcandata Version: 1.28.0 Command: /home/biocbuild/bbs-3.20-bioc/R/bin/R CMD build --keep-empty-dirs --no-resave-data vulcandata StartedAt: 2025-02-04 11:41:30 -0500 (Tue, 04 Feb 2025) EndedAt: 2025-02-04 11:41:39 -0500 (Tue, 04 Feb 2025) EllapsedTime: 9.6 seconds RetCode: 0 Status: OK PackageFile: vulcandata_1.28.0.tar.gz PackageFileSize: 44.75 MiB