Package: yeastCC Version: 1.46.0 Command: /home/biocbuild/bbs-3.20-bioc/R/bin/R CMD check --install=check:yeastCC.install-out.txt --library=/home/biocbuild/bbs-3.20-bioc/R/site-library --timings yeastCC_1.46.0.tar.gz StartedAt: 2025-02-04 12:52:14 -0500 (Tue, 04 Feb 2025) EndedAt: 2025-02-04 12:52:41 -0500 (Tue, 04 Feb 2025) EllapsedTime: 27.0 seconds RetCode: 0 Status: WARNINGS CheckDir: yeastCC.Rcheck Warnings: 2