Package: yeastGSData Version: 0.44.0 Command: /home/biocbuild/bbs-3.20-bioc/R/bin/R CMD build --keep-empty-dirs --no-resave-data yeastGSData StartedAt: 2025-02-04 11:41:59 -0500 (Tue, 04 Feb 2025) EndedAt: 2025-02-04 11:42:14 -0500 (Tue, 04 Feb 2025) EllapsedTime: 15.3 seconds RetCode: 0 Status: OK PackageFile: yeastGSData_0.44.0.tar.gz PackageFileSize: 8.124 MiB