Package: yeastGSData Version: 0.44.0 Command: /home/biocbuild/bbs-3.20-bioc/R/bin/R CMD check --install=check:yeastGSData.install-out.txt --library=/home/biocbuild/bbs-3.20-bioc/R/site-library --timings yeastGSData_0.44.0.tar.gz StartedAt: 2025-02-04 12:52:28 -0500 (Tue, 04 Feb 2025) EndedAt: 2025-02-04 12:54:05 -0500 (Tue, 04 Feb 2025) EllapsedTime: 97.3 seconds RetCode: 0 Status: WARNINGS CheckDir: yeastGSData.Rcheck Warnings: 1