Package: yeastNagalakshmi Version: 1.42.0 Command: /home/biocbuild/bbs-3.20-bioc/R/bin/R CMD check --install=check:yeastNagalakshmi.install-out.txt --library=/home/biocbuild/bbs-3.20-bioc/R/site-library --timings yeastNagalakshmi_1.42.0.tar.gz StartedAt: 2025-02-04 12:52:31 -0500 (Tue, 04 Feb 2025) EndedAt: 2025-02-04 12:52:41 -0500 (Tue, 04 Feb 2025) EllapsedTime: 10.3 seconds RetCode: 0 Status: OK CheckDir: yeastNagalakshmi.Rcheck Warnings: 0