Package: zebrafishRNASeq Version: 1.26.0 Command: /home/biocbuild/bbs-3.20-bioc/R/bin/R CMD check --install=check:zebrafishRNASeq.install-out.txt --library=/home/biocbuild/bbs-3.20-bioc/R/site-library --timings zebrafishRNASeq_1.26.0.tar.gz StartedAt: 2025-02-04 12:52:41 -0500 (Tue, 04 Feb 2025) EndedAt: 2025-02-04 12:52:54 -0500 (Tue, 04 Feb 2025) EllapsedTime: 12.4 seconds RetCode: 0 Status: OK CheckDir: zebrafishRNASeq.Rcheck Warnings: 0