Package: liftOver Version: 1.30.0 Command: /Library/Frameworks/R.framework/Resources/bin/R CMD INSTALL liftOver StartedAt: 2025-02-07 13:03:41 -0500 (Fri, 07 Feb 2025) EndedAt: 2025-02-07 13:05:22 -0500 (Fri, 07 Feb 2025) EllapsedTime: 101.5 seconds RetCode: 0 Status: OK