Package: liftOver Version: 1.30.0 Command: /home/biocbuild/bbs-3.20-bioc/R/bin/R CMD INSTALL liftOver StartedAt: 2025-02-07 13:00:51 -0500 (Fri, 07 Feb 2025) EndedAt: 2025-02-07 13:01:23 -0500 (Fri, 07 Feb 2025) EllapsedTime: 32.2 seconds RetCode: 0 Status: OK