Package: ABarray Version: 1.75.0 Command: /Library/Frameworks/R.framework/Resources/bin/R CMD INSTALL ABarray StartedAt: 2025-02-10 15:26:02 -0500 (Mon, 10 Feb 2025) EndedAt: 2025-02-10 15:26:06 -0500 (Mon, 10 Feb 2025) EllapsedTime: 4.3 seconds RetCode: 0 Status: OK