Package: ABarray Version: 1.75.0 Command: /home/biocbuild/R/R/bin/R CMD INSTALL ABarray StartedAt: 2025-01-29 20:27:58 -0000 (Wed, 29 Jan 2025) EndedAt: 2025-01-29 20:28:10 -0000 (Wed, 29 Jan 2025) EllapsedTime: 11.9 seconds RetCode: 0 Status: OK