Package: ABarray Version: 1.75.0 Command: rm -rf ABarray.buildbin-libdir && mkdir ABarray.buildbin-libdir && /Users/biocbuild/BBS/utils/build-universal.sh ABarray_1.75.0.tar.gz /Library/Frameworks/R.framework/Resources/bin/R ABarray.buildbin-libdir StartedAt: 2025-02-10 00:41:06 -0500 (Mon, 10 Feb 2025) EndedAt: 2025-02-10 00:41:25 -0500 (Mon, 10 Feb 2025) EllapsedTime: 19.7 seconds RetCode: 0 Status: OK PackageFile: ABarray_1.75.0.tgz PackageFileSize: 745.8 KiB