Package: ABarray Version: 1.75.0 Command: /home/biocbuild/bbs-3.21-bioc/R/bin/R CMD build --keep-empty-dirs --no-resave-data ABarray StartedAt: 2025-02-09 16:06:20 -0500 (Sun, 09 Feb 2025) EndedAt: 2025-02-09 16:06:33 -0500 (Sun, 09 Feb 2025) EllapsedTime: 13.0 seconds RetCode: 0 Status: OK PackageFile: ABarray_1.75.0.tar.gz PackageFileSize: 685.9 KiB