Package: ABarray Version: 1.75.0 Command: /home/biocbuild/bbs-3.21-bioc/R/bin/R CMD INSTALL ABarray StartedAt: 2025-02-09 15:14:17 -0500 (Sun, 09 Feb 2025) EndedAt: 2025-02-09 15:14:25 -0500 (Sun, 09 Feb 2025) EllapsedTime: 7.7 seconds RetCode: 0 Status: OK