Package: ACE Version: 1.25.0 Command: rm -rf ACE.buildbin-libdir && mkdir ACE.buildbin-libdir && /Users/biocbuild/BBS/utils/build-universal.sh ACE_1.25.0.tar.gz /Library/Frameworks/R.framework/Resources/bin/R ACE.buildbin-libdir StartedAt: 2025-02-09 22:05:12 -0500 (Sun, 09 Feb 2025) EndedAt: 2025-02-09 22:05:20 -0500 (Sun, 09 Feb 2025) EllapsedTime: 8.2 seconds RetCode: 0 Status: OK PackageFile: ACE_1.25.0.tgz PackageFileSize: 2.788 MiB