Package: ACE Version: 1.25.0 Command: /home/biocbuild/R/R/bin/R CMD build --keep-empty-dirs --no-resave-data ACE StartedAt: 2025-01-29 20:45:28 -0000 (Wed, 29 Jan 2025) EndedAt: 2025-01-29 20:46:50 -0000 (Wed, 29 Jan 2025) EllapsedTime: 82.1 seconds RetCode: 0 Status: OK PackageFile: ACE_1.25.0.tar.gz PackageFileSize: 1.289 MiB