Package: ACE Version: 1.25.0 Command: /Library/Frameworks/R.framework/Resources/bin/R CMD INSTALL ACE StartedAt: 2025-02-09 15:22:02 -0500 (Sun, 09 Feb 2025) EndedAt: 2025-02-09 15:22:27 -0500 (Sun, 09 Feb 2025) EllapsedTime: 25.3 seconds RetCode: 0 Status: OK