Package: ACME Version: 2.63.0 Command: /home/biocbuild/bbs-3.21-bioc/R/bin/R CMD check --install=check:ACME.install-out.txt --library=/home/biocbuild/bbs-3.21-bioc/R/site-library --timings ACME_2.63.0.tar.gz StartedAt: 2025-02-12 19:50:25 -0500 (Wed, 12 Feb 2025) EndedAt: 2025-02-12 19:51:25 -0500 (Wed, 12 Feb 2025) EllapsedTime: 59.2 seconds RetCode: 0 Status: WARNINGS CheckDir: ACME.Rcheck Warnings: 1