Package: ACME Version: 2.63.0 Command: chmod a+r ACME -R && E:\biocbuild\bbs-3.21-bioc\R\bin\R.exe CMD build --keep-empty-dirs --no-resave-data ACME StartedAt: 2025-02-09 17:09:12 -0500 (Sun, 09 Feb 2025) EndedAt: 2025-02-09 17:10:07 -0500 (Sun, 09 Feb 2025) EllapsedTime: 55.0 seconds RetCode: 0 Status: OK PackageFile: ACME_2.63.0.tar.gz PackageFileSize: 9.796 MiB