Package: ACME Version: 2.63.0 Command: E:\biocbuild\bbs-3.21-bioc\R\bin\R.exe CMD check --no-multiarch --install=check:ACME.install-out.txt --library=E:\biocbuild\bbs-3.21-bioc\R\library --no-vignettes --timings ACME_2.63.0.tar.gz StartedAt: 2025-02-09 22:29:06 -0500 (Sun, 09 Feb 2025) EndedAt: 2025-02-09 22:30:30 -0500 (Sun, 09 Feb 2025) EllapsedTime: 83.8 seconds RetCode: 0 Status: WARNINGS CheckDir: ACME.Rcheck Warnings: 1