Package: ACME Version: 2.63.0 Command: E:\biocbuild\bbs-3.21-bioc\R\bin\R.exe CMD INSTALL ACME StartedAt: 2025-02-09 15:23:27 -0500 (Sun, 09 Feb 2025) EndedAt: 2025-02-09 15:23:47 -0500 (Sun, 09 Feb 2025) EllapsedTime: 20.1 seconds RetCode: 0 Status: OK