Package: ADAM Version: 1.23.0 Command: /Library/Frameworks/R.framework/Resources/bin/R CMD check --install=check:ADAM.install-out.txt --library=/Library/Frameworks/R.framework/Resources/library --no-vignettes --timings ADAM_1.23.0.tar.gz StartedAt: 2025-02-09 17:58:59 -0500 (Sun, 09 Feb 2025) EndedAt: 2025-02-09 18:00:12 -0500 (Sun, 09 Feb 2025) EllapsedTime: 72.9 seconds RetCode: 0 Status: OK CheckDir: ADAM.Rcheck Warnings: 0