Package: ADAM Version: 1.23.0 Command: /home/biocbuild/R/R/bin/R CMD INSTALL ADAM StartedAt: 2025-01-29 20:04:23 -0000 (Wed, 29 Jan 2025) EndedAt: 2025-01-29 20:05:08 -0000 (Wed, 29 Jan 2025) EllapsedTime: 45.7 seconds RetCode: 0 Status: OK