Package: ADAM Version: 1.23.0 Command: rm -rf ADAM.buildbin-libdir && mkdir ADAM.buildbin-libdir && /Users/biocbuild/BBS/utils/build-universal.sh ADAM_1.23.0.tar.gz /Library/Frameworks/R.framework/Resources/bin/R ADAM.buildbin-libdir StartedAt: 2025-02-13 00:24:29 -0500 (Thu, 13 Feb 2025) EndedAt: 2025-02-13 00:25:20 -0500 (Thu, 13 Feb 2025) EllapsedTime: 51.9 seconds RetCode: 0 Status: OK PackageFile: ADAM_1.23.0.tgz PackageFileSize: 398.3 KiB