Package: ADAM Version: 1.23.0 Command: rm -rf ADAM.buildbin-libdir && mkdir ADAM.buildbin-libdir && E:\biocbuild\bbs-3.21-bioc\R\bin\R.exe CMD INSTALL --build --library=ADAM.buildbin-libdir ADAM_1.23.0.tar.gz StartedAt: 2025-02-13 07:21:42 -0500 (Thu, 13 Feb 2025) EndedAt: 2025-02-13 07:23:46 -0500 (Thu, 13 Feb 2025) EllapsedTime: 124.2 seconds RetCode: 0 Status: OK PackageFile: ADAM_1.23.0.zip PackageFileSize: 710.9 KiB