Package: ADAM Version: 1.23.0 Command: chmod a+r ADAM -R && E:\biocbuild\bbs-3.21-bioc\R\bin\R.exe CMD build --keep-empty-dirs --no-resave-data ADAM StartedAt: 2025-02-12 17:10:16 -0500 (Wed, 12 Feb 2025) EndedAt: 2025-02-12 17:11:16 -0500 (Wed, 12 Feb 2025) EllapsedTime: 60.1 seconds RetCode: 0 Status: OK PackageFile: ADAM_1.23.0.tar.gz PackageFileSize: 321.4 KiB