Package: ADAM Version: 1.23.0 Command: E:\biocbuild\bbs-3.21-bioc\R\bin\R.exe CMD check --no-multiarch --install=check:ADAM.install-out.txt --library=E:\biocbuild\bbs-3.21-bioc\R\library --no-vignettes --timings ADAM_1.23.0.tar.gz StartedAt: 2025-02-09 22:29:06 -0500 (Sun, 09 Feb 2025) EndedAt: 2025-02-09 22:33:00 -0500 (Sun, 09 Feb 2025) EllapsedTime: 234.4 seconds RetCode: 0 Status: OK CheckDir: ADAM.Rcheck Warnings: 0