Package: ADAMgui Version: 1.23.0 Maintainer: Jose Luiz Rybarczyk Filho MaintainerEmail: jose.luiz at unesp.br git_url: https://git.bioconductor.org/packages/ADAMgui git_branch: devel git_last_commit: 9cd8b2c git_last_commit_date: 2024-10-29 10:36:45 -0500 (Tue, 29 Oct 2024)