Package: ADAMgui Version: 1.23.0 Command: /Library/Frameworks/R.framework/Resources/bin/R CMD INSTALL ADAMgui StartedAt: 2025-02-09 15:28:16 -0500 (Sun, 09 Feb 2025) EndedAt: 2025-02-09 15:28:28 -0500 (Sun, 09 Feb 2025) EllapsedTime: 11.2 seconds RetCode: 0 Status: OK