Package: ADAMgui Version: 1.23.0 Command: /Library/Frameworks/R.framework/Resources/bin/R CMD build --keep-empty-dirs --no-resave-data ADAMgui StartedAt: 2025-02-04 15:49:59 -0500 (Tue, 04 Feb 2025) EndedAt: 2025-02-04 15:50:46 -0500 (Tue, 04 Feb 2025) EllapsedTime: 47.1 seconds RetCode: 0 Status: OK PackageFile: ADAMgui_1.23.0.tar.gz PackageFileSize: 1.745 MiB