Package: ADAMgui Version: 1.23.0 Command: /Library/Frameworks/R.framework/Resources/bin/R CMD INSTALL ADAMgui StartedAt: 2025-02-09 15:43:47 -0500 (Sun, 09 Feb 2025) EndedAt: 2025-02-09 15:44:26 -0500 (Sun, 09 Feb 2025) EllapsedTime: 38.7 seconds RetCode: 0 Status: OK