Package: ADAMgui Version: 1.23.0 Command: /home/biocbuild/bbs-3.21-bioc/R/bin/R CMD build --keep-empty-dirs --no-resave-data ADAMgui StartedAt: 2025-02-04 16:04:25 -0500 (Tue, 04 Feb 2025) EndedAt: 2025-02-04 16:05:04 -0500 (Tue, 04 Feb 2025) EllapsedTime: 39.1 seconds RetCode: 0 Status: OK PackageFile: ADAMgui_1.23.0.tar.gz PackageFileSize: 1.745 MiB