Package: ADAMgui Version: 1.23.0 Command: rm -rf ADAMgui.buildbin-libdir && mkdir ADAMgui.buildbin-libdir && E:\biocbuild\bbs-3.21-bioc\R\bin\R.exe CMD INSTALL --build --library=ADAMgui.buildbin-libdir ADAMgui_1.23.0.tar.gz StartedAt: 2025-02-05 07:22:47 -0500 (Wed, 05 Feb 2025) EndedAt: 2025-02-05 07:23:48 -0500 (Wed, 05 Feb 2025) EllapsedTime: 60.2 seconds RetCode: 0 Status: OK PackageFile: ADAMgui_1.23.0.zip PackageFileSize: 919.5 KiB