Package: ADAMgui Version: 1.23.0 Command: E:\biocbuild\bbs-3.21-bioc\R\bin\R.exe CMD check --no-multiarch --install=check:ADAMgui.install-out.txt --library=E:\biocbuild\bbs-3.21-bioc\R\library --no-vignettes --timings ADAMgui_1.23.0.tar.gz StartedAt: 2025-02-03 22:58:44 -0500 (Mon, 03 Feb 2025) EndedAt: 2025-02-03 23:02:30 -0500 (Mon, 03 Feb 2025) EllapsedTime: 226.6 seconds RetCode: 0 Status: OK CheckDir: ADAMgui.Rcheck Warnings: 0