Package: ADAPT Version: 1.1.0 Command: /Library/Frameworks/R.framework/Resources/bin/R CMD INSTALL ADAPT StartedAt: 2025-02-10 15:22:43 -0500 (Mon, 10 Feb 2025) EndedAt: 2025-02-10 15:22:50 -0500 (Mon, 10 Feb 2025) EllapsedTime: 6.3 seconds RetCode: 1 Status: ERROR