Package: ADAPT Version: 1.1.0 Command: /home/biocbuild/R/R/bin/R CMD build --keep-empty-dirs --no-resave-data ADAPT StartedAt: 2025-01-29 20:45:29 -0000 (Wed, 29 Jan 2025) EndedAt: 2025-01-29 20:46:49 -0000 (Wed, 29 Jan 2025) EllapsedTime: 80.0 seconds RetCode: 0 Status: OK PackageFile: ADAPT_1.1.0.tar.gz PackageFileSize: 369.3 KiB