Package: ADAPT Version: 1.1.0 Command: /home/biocbuild/R/R/bin/R CMD INSTALL ADAPT StartedAt: 2025-01-29 20:22:43 -0000 (Wed, 29 Jan 2025) EndedAt: 2025-01-29 20:23:57 -0000 (Wed, 29 Jan 2025) EllapsedTime: 73.4 seconds RetCode: 0 Status: OK