Package: ADAPT Version: 1.1.0 Command: /Library/Frameworks/R.framework/Resources/bin/R CMD INSTALL ADAPT StartedAt: 2025-02-10 15:35:51 -0500 (Mon, 10 Feb 2025) EndedAt: 2025-02-10 15:36:16 -0500 (Mon, 10 Feb 2025) EllapsedTime: 25.2 seconds RetCode: 1 Status: ERROR