Package: ADAPT Version: 1.1.0 Command: /home/biocbuild/bbs-3.21-bioc/R/bin/R CMD check --install=check:ADAPT.install-out.txt --library=/home/biocbuild/bbs-3.21-bioc/R/site-library --timings ADAPT_1.1.0.tar.gz StartedAt: 2025-02-10 20:03:18 -0500 (Mon, 10 Feb 2025) EndedAt: 2025-02-10 20:05:43 -0500 (Mon, 10 Feb 2025) EllapsedTime: 145.3 seconds RetCode: 0 Status: OK CheckDir: ADAPT.Rcheck Warnings: 0