Package: ADAPT Version: 1.1.0 Command: chmod a+r ADAPT -R && E:\biocbuild\bbs-3.21-bioc\R\bin\R.exe CMD build --keep-empty-dirs --no-resave-data ADAPT StartedAt: 2025-02-12 17:10:16 -0500 (Wed, 12 Feb 2025) EndedAt: 2025-02-12 17:11:52 -0500 (Wed, 12 Feb 2025) EllapsedTime: 96.0 seconds RetCode: 0 Status: OK PackageFile: ADAPT_1.1.0.tar.gz PackageFileSize: 361.1 KiB