Package: ADAPT Version: 1.1.0 Command: E:\biocbuild\bbs-3.21-bioc\R\bin\R.exe CMD check --no-multiarch --install=check:ADAPT.install-out.txt --library=E:\biocbuild\bbs-3.21-bioc\R\library --no-vignettes --timings ADAPT_1.1.0.tar.gz StartedAt: 2025-02-12 22:37:03 -0500 (Wed, 12 Feb 2025) EndedAt: 2025-02-12 22:40:10 -0500 (Wed, 12 Feb 2025) EllapsedTime: 187.0 seconds RetCode: 0 Status: OK CheckDir: ADAPT.Rcheck Warnings: 0