Package: ADImpute Version: 1.17.0 Command: rm -rf ADImpute.buildbin-libdir && mkdir ADImpute.buildbin-libdir && /Users/biocbuild/BBS/utils/build-universal.sh ADImpute_1.17.0.tar.gz /Library/Frameworks/R.framework/Resources/bin/R ADImpute.buildbin-libdir StartedAt: 2025-02-09 22:05:14 -0500 (Sun, 09 Feb 2025) EndedAt: 2025-02-09 22:05:16 -0500 (Sun, 09 Feb 2025) EllapsedTime: 2.1 seconds RetCode: 0 Status: OK PackageFile: ADImpute_1.17.0.tgz PackageFileSize: 2.3 MiB