Package: ADImpute Version: 1.17.0 Command: /Library/Frameworks/R.framework/Resources/bin/R CMD check --install=check:ADImpute.install-out.txt --library=/Library/Frameworks/R.framework/Resources/library --no-vignettes --timings ADImpute_1.17.0.tar.gz StartedAt: 2025-02-03 18:35:41 -0500 (Mon, 03 Feb 2025) EndedAt: 2025-02-03 18:36:38 -0500 (Mon, 03 Feb 2025) EllapsedTime: 56.8 seconds RetCode: 0 Status: WARNINGS CheckDir: ADImpute.Rcheck Warnings: 1