Package: ADImpute Version: 1.17.0 Command: /home/biocbuild/R/R/bin/R CMD build --keep-empty-dirs --no-resave-data ADImpute StartedAt: 2025-01-29 20:45:29 -0000 (Wed, 29 Jan 2025) EndedAt: 2025-01-29 20:46:04 -0000 (Wed, 29 Jan 2025) EllapsedTime: 35.0 seconds RetCode: 0 Status: OK PackageFile: ADImpute_1.17.0.tar.gz PackageFileSize: 2.141 MiB