Package: ADImpute Version: 1.17.0 Command: /home/biocbuild/R/R/bin/R CMD check --install=check:ADImpute.install-out.txt --library=/home/biocbuild/R/R/site-library --no-vignettes --timings ADImpute_1.17.0.tar.gz StartedAt: 2025-01-28 03:26:23 -0000 (Tue, 28 Jan 2025) EndedAt: 2025-01-28 03:29:27 -0000 (Tue, 28 Jan 2025) EllapsedTime: 184.3 seconds RetCode: 0 Status: WARNINGS CheckDir: ADImpute.Rcheck Warnings: 1