Package: ADImpute Version: 1.17.0 Command: rm -rf ADImpute.buildbin-libdir && mkdir ADImpute.buildbin-libdir && /Users/biocbuild/BBS/utils/build-universal.sh ADImpute_1.17.0.tar.gz /Library/Frameworks/R.framework/Resources/bin/R ADImpute.buildbin-libdir StartedAt: 2025-02-05 00:27:37 -0500 (Wed, 05 Feb 2025) EndedAt: 2025-02-05 00:27:49 -0500 (Wed, 05 Feb 2025) EllapsedTime: 12.4 seconds RetCode: 0 Status: OK PackageFile: ADImpute_1.17.0.tgz PackageFileSize: 2.297 MiB