Package: ADImpute Version: 1.17.0 Command: /Library/Frameworks/R.framework/Resources/bin/R CMD build --keep-empty-dirs --no-resave-data ADImpute StartedAt: 2025-02-03 15:55:18 -0500 (Mon, 03 Feb 2025) EndedAt: 2025-02-03 15:55:53 -0500 (Mon, 03 Feb 2025) EllapsedTime: 35.6 seconds RetCode: 0 Status: OK PackageFile: ADImpute_1.17.0.tar.gz PackageFileSize: 2.117 MiB